BEGIN:VCALENDAR
VERSION:2.0
PRODID:-//Encompass Community Supports - ECPv6.15.20//NONSGML v1.0//EN
CALSCALE:GREGORIAN
METHOD:PUBLISH
X-WR-CALNAME:Encompass Community Supports
X-ORIGINAL-URL:https://www.encompasscommunitysupports.org
X-WR-CALDESC:Events for Encompass Community Supports
REFRESH-INTERVAL;VALUE=DURATION:PT1H
X-Robots-Tag:noindex
X-PUBLISHED-TTL:PT1H
BEGIN:VTIMEZONE
TZID:America/New_York
BEGIN:DAYLIGHT
TZOFFSETFROM:-0500
TZOFFSETTO:-0400
TZNAME:EDT
DTSTART:20240310T070000
END:DAYLIGHT
BEGIN:STANDARD
TZOFFSETFROM:-0400
TZOFFSETTO:-0500
TZNAME:EST
DTSTART:20241103T060000
END:STANDARD
BEGIN:DAYLIGHT
TZOFFSETFROM:-0500
TZOFFSETTO:-0400
TZNAME:EDT
DTSTART:20250309T070000
END:DAYLIGHT
BEGIN:STANDARD
TZOFFSETFROM:-0400
TZOFFSETTO:-0500
TZNAME:EST
DTSTART:20251102T060000
END:STANDARD
BEGIN:DAYLIGHT
TZOFFSETFROM:-0500
TZOFFSETTO:-0400
TZNAME:EDT
DTSTART:20260308T070000
END:DAYLIGHT
BEGIN:STANDARD
TZOFFSETFROM:-0400
TZOFFSETTO:-0500
TZNAME:EST
DTSTART:20261101T060000
END:STANDARD
END:VTIMEZONE
BEGIN:VEVENT
DTSTART;TZID=America/New_York:20250624T080000
DTEND;TZID=America/New_York:20250624T160000
DTSTAMP:20260423T001931
CREATED:20240209T212055Z
LAST-MODIFIED:20240209T212055Z
UID:10000539-1750752000-1750780800@www.encompasscommunitysupports.org
SUMMARY:Developmental Screenings (Newborn to 3 yrs)
DESCRIPTION:
URL:https://www.encompasscommunitysupports.org/event/developmental-screenings-newborn-to-3-yrs/2025-06-24/
LOCATION:S.E.E. Recovery Center\, 710 US Avenue\, Culpeper\, VA\, 22701\, United States
CATEGORIES:Encompass Community Supports Events,In the Community
ATTACH;FMTTYPE=image/png:https://www.encompasscommunitysupports.org/wp-content/uploads/2024/02/ITC-Developmental-Screenings-Every-4th-TuesdaysCapture.png
END:VEVENT
BEGIN:VEVENT
DTSTART;TZID=America/New_York:20250624T110000
DTEND;TZID=America/New_York:20250624T123000
DTSTAMP:20260423T001931
CREATED:20250429T131035Z
LAST-MODIFIED:20250429T131218Z
UID:10000126-1750762800-1750768200@www.encompasscommunitysupports.org
SUMMARY:(Canceled) Finance & Administrative Services Committee
DESCRIPTION:The Finance & Administrative Services Committee has been canceled to make availability for the Called Board meeting. \n 
URL:https://www.encompasscommunitysupports.org/event/finance-administrative-services-committee-6/
LOCATION:Encompass Community Supports Culpeper\, 15361 Bradford Road\, Culpeper\, VA\, 22701\, United States
CATEGORIES:Encompass Community Supports Events
ATTACH;FMTTYPE=image/png:https://www.encompasscommunitysupports.org/wp-content/uploads/2024/05/Canceled-Picture1-e1717077401378.png
END:VEVENT
BEGIN:VEVENT
DTSTART;TZID=America/New_York:20250624T130000
DTEND;TZID=America/New_York:20250624T143000
DTSTAMP:20260423T001931
CREATED:20250429T131242Z
LAST-MODIFIED:20250429T131325Z
UID:10000185-1750770000-1750775400@www.encompasscommunitysupports.org
SUMMARY:(Canceled) Program Committee
DESCRIPTION:The Program Committee has been canceled to make availability for the Called Board meeting. \n 
URL:https://www.encompasscommunitysupports.org/event/program-committee-7/
LOCATION:Encompass Community Supports Culpeper\, 15361 Bradford Road\, Culpeper\, VA\, 22701\, United States
CATEGORIES:Encompass Community Supports Events
ATTACH;FMTTYPE=image/png:https://www.encompasscommunitysupports.org/wp-content/uploads/2024/05/Canceled-Picture1-e1717077401378.png
END:VEVENT
BEGIN:VEVENT
DTSTART;TZID=America/New_York:20250624T130000
DTEND;TZID=America/New_York:20250624T150000
DTSTAMP:20260423T001931
CREATED:20250522T170347Z
LAST-MODIFIED:20250623T183803Z
UID:10000835-1750770000-1750777200@www.encompasscommunitysupports.org
SUMMARY:Ad Hoc Board Meeting - Understanding the Budget
DESCRIPTION:To request a Public Comment\, please see the Public Comment Period Code of Ethics and Standards of Conduct at:\nhttps://ecsva.diligent.community/Portal/CitizenEngagement.aspx \n________________________________________________________________________________ \nMicrosoft Teams Need help? \nJoin the meeting now \nMeeting ID: 231 449 637 852 8 \nPasscode: se3sf3SH
URL:https://www.encompasscommunitysupports.org/event/called-board-meeting-2/
LOCATION:Encompass Community Supports Culpeper\, 15361 Bradford Road\, Culpeper\, VA\, 22701\, United States
CATEGORIES:Encompass Community Supports Events,In the Community
ATTACH;FMTTYPE=image/png:https://www.encompasscommunitysupports.org/wp-content/uploads/2023/09/BoardMeeting.png
END:VEVENT
END:VCALENDAR