BEGIN:VCALENDAR
VERSION:2.0
PRODID:-//Encompass Community Supports - ECPv6.15.20//NONSGML v1.0//EN
CALSCALE:GREGORIAN
METHOD:PUBLISH
X-ORIGINAL-URL:https://www.encompasscommunitysupports.org
X-WR-CALDESC:Events for Encompass Community Supports
REFRESH-INTERVAL;VALUE=DURATION:PT1H
X-Robots-Tag:noindex
X-PUBLISHED-TTL:PT1H
BEGIN:VTIMEZONE
TZID:America/New_York
BEGIN:DAYLIGHT
TZOFFSETFROM:-0500
TZOFFSETTO:-0400
TZNAME:EDT
DTSTART:20240310T070000
END:DAYLIGHT
BEGIN:STANDARD
TZOFFSETFROM:-0400
TZOFFSETTO:-0500
TZNAME:EST
DTSTART:20241103T060000
END:STANDARD
BEGIN:DAYLIGHT
TZOFFSETFROM:-0500
TZOFFSETTO:-0400
TZNAME:EDT
DTSTART:20250309T070000
END:DAYLIGHT
BEGIN:STANDARD
TZOFFSETFROM:-0400
TZOFFSETTO:-0500
TZNAME:EST
DTSTART:20251102T060000
END:STANDARD
BEGIN:DAYLIGHT
TZOFFSETFROM:-0500
TZOFFSETTO:-0400
TZNAME:EDT
DTSTART:20260308T070000
END:DAYLIGHT
BEGIN:STANDARD
TZOFFSETFROM:-0400
TZOFFSETTO:-0500
TZNAME:EST
DTSTART:20261101T060000
END:STANDARD
END:VTIMEZONE
BEGIN:VEVENT
DTSTART;TZID=America/New_York:20250630T100000
DTEND;TZID=America/New_York:20250630T103000
DTSTAMP:20260422T215016
CREATED:20250624T205107Z
LAST-MODIFIED:20250625T195121Z
UID:10000836-1751277600-1751279400@www.encompasscommunitysupports.org
SUMMARY:All-Virtual\, Public Hearing & Closed Session Board Meeting
DESCRIPTION:The Rappahannock-Rapidan Community Services Board dba Encompass Community Supports (ECS) will conduct an all-virtual Public Hearing on Monday\, 30 June 2025\, at 10 AM. The purpose of the hearing is for the Board of Directors to vote on a Continuing Resolution of the FY25 Budget. Anyone interested in participating in the hearing who wishes to make comments or inquiries should contact Sheryl Reinstrom\, Executive Director\, by telephone at (540) 825-3100 or by email at contact@ecsva.org. \nThis meeting is an All-Virtual Public Hearing platform. \nPart I. Continuing Resolution for the FY25 Budget \n________________________________________________________________________________ \nMicrosoft Teams \nJoin the meeting now\nMeeting ID: 282 021 603 654 5\nPasscode: Qx9HG9gk \n________________________________________________________________________________ \nPart II – Closed Session – Personnel\nPer the Code of Virginia § 2.2-3711 A\, Subdivision 1;\nNon Members of the Board will be excused for the Board to discuss matters including personnel as it relates to FY26 Budget planning\, whereby such discussion could identify employees. \n  \nECS does not discriminate based on race\, color\, national origin\, sex\, religion\, age\, disability\, or any other characteristic protected by law in employment matters and its programs and services. The link to the virtual meeting is posted on our website at www.encompasscommunitysupports.org/ecs-events/.
URL:https://www.encompasscommunitysupports.org/event/public-hearing-announcement-all-virtual-board-meeting/
LOCATION:VA
CATEGORIES:Encompass Community Supports Events,In the Community
ATTACH;FMTTYPE=image/png:https://www.encompasscommunitysupports.org/wp-content/uploads/2023/09/BoardMeeting.png
END:VEVENT
END:VCALENDAR