BEGIN:VCALENDAR
VERSION:2.0
PRODID:-//Encompass Community Supports - ECPv6.15.20//NONSGML v1.0//EN
CALSCALE:GREGORIAN
METHOD:PUBLISH
X-ORIGINAL-URL:https://www.encompasscommunitysupports.org
X-WR-CALDESC:Events for Encompass Community Supports
REFRESH-INTERVAL;VALUE=DURATION:PT1H
X-Robots-Tag:noindex
X-PUBLISHED-TTL:PT1H
BEGIN:VTIMEZONE
TZID:America/New_York
BEGIN:DAYLIGHT
TZOFFSETFROM:-0500
TZOFFSETTO:-0400
TZNAME:EDT
DTSTART:20240310T070000
END:DAYLIGHT
BEGIN:STANDARD
TZOFFSETFROM:-0400
TZOFFSETTO:-0500
TZNAME:EST
DTSTART:20241103T060000
END:STANDARD
BEGIN:DAYLIGHT
TZOFFSETFROM:-0500
TZOFFSETTO:-0400
TZNAME:EDT
DTSTART:20250309T070000
END:DAYLIGHT
BEGIN:STANDARD
TZOFFSETFROM:-0400
TZOFFSETTO:-0500
TZNAME:EST
DTSTART:20251102T060000
END:STANDARD
BEGIN:DAYLIGHT
TZOFFSETFROM:-0500
TZOFFSETTO:-0400
TZNAME:EDT
DTSTART:20260308T070000
END:DAYLIGHT
BEGIN:STANDARD
TZOFFSETFROM:-0400
TZOFFSETTO:-0500
TZNAME:EST
DTSTART:20261101T060000
END:STANDARD
END:VTIMEZONE
BEGIN:VEVENT
DTSTART;TZID=America/New_York:20250701T110000
DTEND;TZID=America/New_York:20250701T123000
DTSTAMP:20260422T215016
CREATED:20250429T131647Z
LAST-MODIFIED:20250429T131730Z
UID:10000794-1751367600-1751373000@www.encompasscommunitysupports.org
SUMMARY:(Canceled) Development and Community Relations Committee
DESCRIPTION:The Development and Community Relations Committee has been canceled to allow the agency to shift\, starting its new FY26\, on July 1st.
URL:https://www.encompasscommunitysupports.org/event/development-and-community-relations-committee-3/
LOCATION:Encompass Community Supports Culpeper\, 15361 Bradford Road\, Culpeper\, VA\, 22701\, United States
CATEGORIES:Encompass Community Supports Events
ATTACH;FMTTYPE=image/png:https://www.encompasscommunitysupports.org/wp-content/uploads/2024/05/Canceled-Picture1-e1717077401378.png
END:VEVENT
BEGIN:VEVENT
DTSTART;TZID=America/New_York:20250701T130000
DTEND;TZID=America/New_York:20250701T150000
DTSTAMP:20260422T215016
CREATED:20250429T131804Z
LAST-MODIFIED:20250429T131905Z
UID:10000781-1751374800-1751382000@www.encompasscommunitysupports.org
SUMMARY:(Canceled) Executive Committee
DESCRIPTION:The Executive Committee has been canceled to allow the agency to shift\, starting its new FY26\, on July 1st.
URL:https://www.encompasscommunitysupports.org/event/executive-committee-3/
LOCATION:Encompass Community Supports Culpeper\, 15361 Bradford Road\, Culpeper\, VA\, 22701\, United States
CATEGORIES:Encompass Community Supports Events
ATTACH;FMTTYPE=image/png:https://www.encompasscommunitysupports.org/wp-content/uploads/2024/05/Canceled-Picture1-e1717077401378.png
END:VEVENT
END:VCALENDAR