BEGIN:VCALENDAR
VERSION:2.0
PRODID:-//Encompass Community Supports - ECPv6.15.20//NONSGML v1.0//EN
CALSCALE:GREGORIAN
METHOD:PUBLISH
X-WR-CALNAME:Encompass Community Supports
X-ORIGINAL-URL:https://www.encompasscommunitysupports.org
X-WR-CALDESC:Events for Encompass Community Supports
REFRESH-INTERVAL;VALUE=DURATION:PT1H
X-Robots-Tag:noindex
X-PUBLISHED-TTL:PT1H
BEGIN:VTIMEZONE
TZID:America/New_York
BEGIN:DAYLIGHT
TZOFFSETFROM:-0500
TZOFFSETTO:-0400
TZNAME:EDT
DTSTART:20240310T070000
END:DAYLIGHT
BEGIN:STANDARD
TZOFFSETFROM:-0400
TZOFFSETTO:-0500
TZNAME:EST
DTSTART:20241103T060000
END:STANDARD
BEGIN:DAYLIGHT
TZOFFSETFROM:-0500
TZOFFSETTO:-0400
TZNAME:EDT
DTSTART:20250309T070000
END:DAYLIGHT
BEGIN:STANDARD
TZOFFSETFROM:-0400
TZOFFSETTO:-0500
TZNAME:EST
DTSTART:20251102T060000
END:STANDARD
BEGIN:DAYLIGHT
TZOFFSETFROM:-0500
TZOFFSETTO:-0400
TZNAME:EDT
DTSTART:20260308T070000
END:DAYLIGHT
BEGIN:STANDARD
TZOFFSETFROM:-0400
TZOFFSETTO:-0500
TZNAME:EST
DTSTART:20261101T060000
END:STANDARD
END:VTIMEZONE
BEGIN:VEVENT
DTSTART;TZID=America/New_York:20250714T130000
DTEND;TZID=America/New_York:20250714T150000
DTSTAMP:20260422T230918
CREATED:20250625T194559Z
LAST-MODIFIED:20250625T195149Z
UID:10000841-1752498000-1752505200@www.encompasscommunitysupports.org
SUMMARY:Ad Hoc Board Meeting (Closed Session-Personnel)
DESCRIPTION:Closed Session – Personnel\nPer the Code of Virginia § 2.2-3711 A\, Subdivision 1;\nTo discuss matters including personnel as it relates to FY26 Budget planning\, whereby such discussion could identify employees.
URL:https://www.encompasscommunitysupports.org/event/ad-hoc-board-meeting-closed-session-personnel/
LOCATION:VA
CATEGORIES:Encompass Community Supports Events,In the Community
ATTACH;FMTTYPE=image/png:https://www.encompasscommunitysupports.org/wp-content/uploads/2023/09/BoardMeeting.png
END:VEVENT
END:VCALENDAR