BEGIN:VCALENDAR
VERSION:2.0
PRODID:-//Encompass Community Supports - ECPv6.15.20//NONSGML v1.0//EN
CALSCALE:GREGORIAN
METHOD:PUBLISH
X-WR-CALNAME:Encompass Community Supports
X-ORIGINAL-URL:https://www.encompasscommunitysupports.org
X-WR-CALDESC:Events for Encompass Community Supports
REFRESH-INTERVAL;VALUE=DURATION:PT1H
X-Robots-Tag:noindex
X-PUBLISHED-TTL:PT1H
BEGIN:VTIMEZONE
TZID:America/New_York
BEGIN:DAYLIGHT
TZOFFSETFROM:-0500
TZOFFSETTO:-0400
TZNAME:EDT
DTSTART:20250309T070000
END:DAYLIGHT
BEGIN:STANDARD
TZOFFSETFROM:-0400
TZOFFSETTO:-0500
TZNAME:EST
DTSTART:20251102T060000
END:STANDARD
BEGIN:DAYLIGHT
TZOFFSETFROM:-0500
TZOFFSETTO:-0400
TZNAME:EDT
DTSTART:20260308T070000
END:DAYLIGHT
BEGIN:STANDARD
TZOFFSETFROM:-0400
TZOFFSETTO:-0500
TZNAME:EST
DTSTART:20261101T060000
END:STANDARD
BEGIN:DAYLIGHT
TZOFFSETFROM:-0500
TZOFFSETTO:-0400
TZNAME:EDT
DTSTART:20270314T070000
END:DAYLIGHT
BEGIN:STANDARD
TZOFFSETFROM:-0400
TZOFFSETTO:-0500
TZNAME:EST
DTSTART:20271107T060000
END:STANDARD
END:VTIMEZONE
BEGIN:VEVENT
DTSTART;VALUE=DATE:20261024
DTEND;VALUE=DATE:20261025
DTSTAMP:20260424T080636
CREATED:20260125T190440Z
LAST-MODIFIED:20260125T190440Z
UID:10000886-1792828800-1792861200@www.encompasscommunitysupports.org
SUMMARY:National Drug Take Back Day
DESCRIPTION:National Prescription Drug Take Back Day\, organized by the DEA\, is a free\, biannual\, nationwide event (typically April and October) for safely\, conveniently\, and anonymously disposing of unused\, unwanted\, or expired prescription medications. The initiative helps prevent pill abuse\, accidental poisonings\, and environmental contamination. \nPermanent Medication Dropbox Locations: \nCulpeper County:\nCulpeper Town Police Department\, 740 Old Brandy Rd\, Culpeper\, VA\nCVS Pharmacy\, 150 Madison Road\, Culpeper\, VA\nVirginia State Police\, 15148 State Police Road\, Culpeper\, VA \nFauquier County:\nWalgreens\, 276 West Lee Highway\, Warrenton\, VA\nCVS Pharmacy\, 510 Blackwell Road\, Warrenton \nRappahannock County:\nRappahannock County Sheriff’s Office\, 383 Porter St.\, Washington\, VA. \nMadison County:\nMadison County Sheriff’s Office\, 115 Church St.\, Madison\, VA \nOrange County:\nOrange Town Police Department\, 249 Blue Ridge Avenue\, Orange\, VA\nGordonsville Police Department\, 112 South Main St.\, Gordonsville\, VA\nCVS Pharmacy 720 Round Hill Drive\, Orange\, VA (540-672-0872) \nLink to find other locations: https://www.dea.gov/takebackday
URL:https://www.encompasscommunitysupports.org/event/national-drug-take-back-day/2026-10-24/
LOCATION:VA
CATEGORIES:In the Community
ATTACH;FMTTYPE=image/png:https://www.encompasscommunitysupports.org/wp-content/uploads/2023/09/231028-Drug-Take-BackCapture.png
END:VEVENT
END:VCALENDAR