BEGIN:VCALENDAR
VERSION:2.0
PRODID:-//Encompass Community Supports - ECPv6.15.20//NONSGML v1.0//EN
CALSCALE:GREGORIAN
METHOD:PUBLISH
X-WR-CALNAME:Encompass Community Supports
X-ORIGINAL-URL:https://www.encompasscommunitysupports.org
X-WR-CALDESC:Events for Encompass Community Supports
REFRESH-INTERVAL;VALUE=DURATION:PT1H
X-Robots-Tag:noindex
X-PUBLISHED-TTL:PT1H
BEGIN:VTIMEZONE
TZID:America/New_York
BEGIN:DAYLIGHT
TZOFFSETFROM:-0500
TZOFFSETTO:-0400
TZNAME:EDT
DTSTART:20260308T070000
END:DAYLIGHT
BEGIN:STANDARD
TZOFFSETFROM:-0400
TZOFFSETTO:-0500
TZNAME:EST
DTSTART:20261101T060000
END:STANDARD
BEGIN:DAYLIGHT
TZOFFSETFROM:-0500
TZOFFSETTO:-0400
TZNAME:EDT
DTSTART:20270314T070000
END:DAYLIGHT
BEGIN:STANDARD
TZOFFSETFROM:-0400
TZOFFSETTO:-0500
TZNAME:EST
DTSTART:20271107T060000
END:STANDARD
BEGIN:DAYLIGHT
TZOFFSETFROM:-0500
TZOFFSETTO:-0400
TZNAME:EDT
DTSTART:20280312T070000
END:DAYLIGHT
BEGIN:STANDARD
TZOFFSETFROM:-0400
TZOFFSETTO:-0500
TZNAME:EST
DTSTART:20281105T060000
END:STANDARD
BEGIN:DAYLIGHT
TZOFFSETFROM:-0500
TZOFFSETTO:-0400
TZNAME:EDT
DTSTART:20290311T070000
END:DAYLIGHT
BEGIN:STANDARD
TZOFFSETFROM:-0400
TZOFFSETTO:-0500
TZNAME:EST
DTSTART:20291104T060000
END:STANDARD
BEGIN:DAYLIGHT
TZOFFSETFROM:-0500
TZOFFSETTO:-0400
TZNAME:EDT
DTSTART:20300310T070000
END:DAYLIGHT
BEGIN:STANDARD
TZOFFSETFROM:-0400
TZOFFSETTO:-0500
TZNAME:EST
DTSTART:20301103T060000
END:STANDARD
END:VTIMEZONE
BEGIN:VEVENT
DTSTART;TZID=America/New_York:20270518T100000
DTEND;TZID=America/New_York:20270518T113000
DTSTAMP:20260423T141758
CREATED:20230918T193105Z
LAST-MODIFIED:20230921T190848Z
UID:10000328-1810634400-1810639800@www.encompasscommunitysupports.org
SUMMARY:Aging Services Advisory Council
DESCRIPTION:The Aging Services Advisory Council at Encompass Community Supports provides assistance and makes recommendations on policies and decisions affecting the Area Agency on Aging.
URL:https://www.encompasscommunitysupports.org/event/aging-services-advisory-council/2027-05-18/
LOCATION:Encompass Community Supports Culpeper\, 15361 Bradford Road\, Culpeper\, VA\, 22701\, United States
CATEGORIES:Aging Services Advisory Council Meetings
ATTACH;FMTTYPE=image/png:https://www.encompasscommunitysupports.org/wp-content/uploads/2023/09/ASAC-aging-svc-adv-council-rev2.png
END:VEVENT
BEGIN:VEVENT
DTSTART;TZID=America/New_York:20270615T100000
DTEND;TZID=America/New_York:20270615T113000
DTSTAMP:20260423T141758
CREATED:20230918T193105Z
LAST-MODIFIED:20230921T190848Z
UID:10000329-1813053600-1813059000@www.encompasscommunitysupports.org
SUMMARY:Aging Services Advisory Council
DESCRIPTION:The Aging Services Advisory Council at Encompass Community Supports provides assistance and makes recommendations on policies and decisions affecting the Area Agency on Aging.
URL:https://www.encompasscommunitysupports.org/event/aging-services-advisory-council/2027-06-15/
LOCATION:Encompass Community Supports Culpeper\, 15361 Bradford Road\, Culpeper\, VA\, 22701\, United States
CATEGORIES:Aging Services Advisory Council Meetings
ATTACH;FMTTYPE=image/png:https://www.encompasscommunitysupports.org/wp-content/uploads/2023/09/ASAC-aging-svc-adv-council-rev2.png
END:VEVENT
BEGIN:VEVENT
DTSTART;TZID=America/New_York:20270720T100000
DTEND;TZID=America/New_York:20270720T113000
DTSTAMP:20260423T141758
CREATED:20230918T193105Z
LAST-MODIFIED:20230921T190848Z
UID:10000330-1816077600-1816083000@www.encompasscommunitysupports.org
SUMMARY:Aging Services Advisory Council
DESCRIPTION:The Aging Services Advisory Council at Encompass Community Supports provides assistance and makes recommendations on policies and decisions affecting the Area Agency on Aging.
URL:https://www.encompasscommunitysupports.org/event/aging-services-advisory-council/2027-07-20/
LOCATION:Encompass Community Supports Culpeper\, 15361 Bradford Road\, Culpeper\, VA\, 22701\, United States
CATEGORIES:Aging Services Advisory Council Meetings
ATTACH;FMTTYPE=image/png:https://www.encompasscommunitysupports.org/wp-content/uploads/2023/09/ASAC-aging-svc-adv-council-rev2.png
END:VEVENT
BEGIN:VEVENT
DTSTART;TZID=America/New_York:20270817T100000
DTEND;TZID=America/New_York:20270817T113000
DTSTAMP:20260423T141758
CREATED:20230918T193105Z
LAST-MODIFIED:20230921T190848Z
UID:10000331-1818496800-1818502200@www.encompasscommunitysupports.org
SUMMARY:Aging Services Advisory Council
DESCRIPTION:The Aging Services Advisory Council at Encompass Community Supports provides assistance and makes recommendations on policies and decisions affecting the Area Agency on Aging.
URL:https://www.encompasscommunitysupports.org/event/aging-services-advisory-council/2027-08-17/
LOCATION:Encompass Community Supports Culpeper\, 15361 Bradford Road\, Culpeper\, VA\, 22701\, United States
CATEGORIES:Aging Services Advisory Council Meetings
ATTACH;FMTTYPE=image/png:https://www.encompasscommunitysupports.org/wp-content/uploads/2023/09/ASAC-aging-svc-adv-council-rev2.png
END:VEVENT
BEGIN:VEVENT
DTSTART;TZID=America/New_York:20270921T100000
DTEND;TZID=America/New_York:20270921T113000
DTSTAMP:20260423T141758
CREATED:20230918T193105Z
LAST-MODIFIED:20230921T190848Z
UID:10000332-1821520800-1821526200@www.encompasscommunitysupports.org
SUMMARY:Aging Services Advisory Council
DESCRIPTION:The Aging Services Advisory Council at Encompass Community Supports provides assistance and makes recommendations on policies and decisions affecting the Area Agency on Aging.
URL:https://www.encompasscommunitysupports.org/event/aging-services-advisory-council/2027-09-21/
LOCATION:Encompass Community Supports Culpeper\, 15361 Bradford Road\, Culpeper\, VA\, 22701\, United States
CATEGORIES:Aging Services Advisory Council Meetings
ATTACH;FMTTYPE=image/png:https://www.encompasscommunitysupports.org/wp-content/uploads/2023/09/ASAC-aging-svc-adv-council-rev2.png
END:VEVENT
BEGIN:VEVENT
DTSTART;TZID=America/New_York:20271019T100000
DTEND;TZID=America/New_York:20271019T113000
DTSTAMP:20260423T141758
CREATED:20230918T193105Z
LAST-MODIFIED:20230921T190848Z
UID:10000333-1823940000-1823945400@www.encompasscommunitysupports.org
SUMMARY:Aging Services Advisory Council
DESCRIPTION:The Aging Services Advisory Council at Encompass Community Supports provides assistance and makes recommendations on policies and decisions affecting the Area Agency on Aging.
URL:https://www.encompasscommunitysupports.org/event/aging-services-advisory-council/2027-10-19/
LOCATION:Encompass Community Supports Culpeper\, 15361 Bradford Road\, Culpeper\, VA\, 22701\, United States
CATEGORIES:Aging Services Advisory Council Meetings
ATTACH;FMTTYPE=image/png:https://www.encompasscommunitysupports.org/wp-content/uploads/2023/09/ASAC-aging-svc-adv-council-rev2.png
END:VEVENT
BEGIN:VEVENT
DTSTART;TZID=America/New_York:20271116T100000
DTEND;TZID=America/New_York:20271116T113000
DTSTAMP:20260423T141758
CREATED:20230918T193105Z
LAST-MODIFIED:20230921T190848Z
UID:10000334-1826359200-1826364600@www.encompasscommunitysupports.org
SUMMARY:Aging Services Advisory Council
DESCRIPTION:The Aging Services Advisory Council at Encompass Community Supports provides assistance and makes recommendations on policies and decisions affecting the Area Agency on Aging.
URL:https://www.encompasscommunitysupports.org/event/aging-services-advisory-council/2027-11-16/
LOCATION:Encompass Community Supports Culpeper\, 15361 Bradford Road\, Culpeper\, VA\, 22701\, United States
CATEGORIES:Aging Services Advisory Council Meetings
ATTACH;FMTTYPE=image/png:https://www.encompasscommunitysupports.org/wp-content/uploads/2023/09/ASAC-aging-svc-adv-council-rev2.png
END:VEVENT
BEGIN:VEVENT
DTSTART;TZID=America/New_York:20271221T100000
DTEND;TZID=America/New_York:20271221T113000
DTSTAMP:20260423T141758
CREATED:20230918T193105Z
LAST-MODIFIED:20230921T190848Z
UID:10000335-1829383200-1829388600@www.encompasscommunitysupports.org
SUMMARY:Aging Services Advisory Council
DESCRIPTION:The Aging Services Advisory Council at Encompass Community Supports provides assistance and makes recommendations on policies and decisions affecting the Area Agency on Aging.
URL:https://www.encompasscommunitysupports.org/event/aging-services-advisory-council/2027-12-21/
LOCATION:Encompass Community Supports Culpeper\, 15361 Bradford Road\, Culpeper\, VA\, 22701\, United States
CATEGORIES:Aging Services Advisory Council Meetings
ATTACH;FMTTYPE=image/png:https://www.encompasscommunitysupports.org/wp-content/uploads/2023/09/ASAC-aging-svc-adv-council-rev2.png
END:VEVENT
BEGIN:VEVENT
DTSTART;TZID=America/New_York:20280118T100000
DTEND;TZID=America/New_York:20280118T113000
DTSTAMP:20260423T141758
CREATED:20230918T193105Z
LAST-MODIFIED:20230921T190848Z
UID:10000336-1831802400-1831807800@www.encompasscommunitysupports.org
SUMMARY:Aging Services Advisory Council
DESCRIPTION:The Aging Services Advisory Council at Encompass Community Supports provides assistance and makes recommendations on policies and decisions affecting the Area Agency on Aging.
URL:https://www.encompasscommunitysupports.org/event/aging-services-advisory-council/2028-01-18/
LOCATION:Encompass Community Supports Culpeper\, 15361 Bradford Road\, Culpeper\, VA\, 22701\, United States
CATEGORIES:Aging Services Advisory Council Meetings
ATTACH;FMTTYPE=image/png:https://www.encompasscommunitysupports.org/wp-content/uploads/2023/09/ASAC-aging-svc-adv-council-rev2.png
END:VEVENT
BEGIN:VEVENT
DTSTART;TZID=America/New_York:20280215T100000
DTEND;TZID=America/New_York:20280215T113000
DTSTAMP:20260423T141758
CREATED:20230918T193105Z
LAST-MODIFIED:20230921T190848Z
UID:10000337-1834221600-1834227000@www.encompasscommunitysupports.org
SUMMARY:Aging Services Advisory Council
DESCRIPTION:The Aging Services Advisory Council at Encompass Community Supports provides assistance and makes recommendations on policies and decisions affecting the Area Agency on Aging.
URL:https://www.encompasscommunitysupports.org/event/aging-services-advisory-council/2028-02-15/
LOCATION:Encompass Community Supports Culpeper\, 15361 Bradford Road\, Culpeper\, VA\, 22701\, United States
CATEGORIES:Aging Services Advisory Council Meetings
ATTACH;FMTTYPE=image/png:https://www.encompasscommunitysupports.org/wp-content/uploads/2023/09/ASAC-aging-svc-adv-council-rev2.png
END:VEVENT
BEGIN:VEVENT
DTSTART;TZID=America/New_York:20280321T100000
DTEND;TZID=America/New_York:20280321T113000
DTSTAMP:20260423T141758
CREATED:20230918T193105Z
LAST-MODIFIED:20230921T190848Z
UID:10000338-1837245600-1837251000@www.encompasscommunitysupports.org
SUMMARY:Aging Services Advisory Council
DESCRIPTION:The Aging Services Advisory Council at Encompass Community Supports provides assistance and makes recommendations on policies and decisions affecting the Area Agency on Aging.
URL:https://www.encompasscommunitysupports.org/event/aging-services-advisory-council/2028-03-21/
LOCATION:Encompass Community Supports Culpeper\, 15361 Bradford Road\, Culpeper\, VA\, 22701\, United States
CATEGORIES:Aging Services Advisory Council Meetings
ATTACH;FMTTYPE=image/png:https://www.encompasscommunitysupports.org/wp-content/uploads/2023/09/ASAC-aging-svc-adv-council-rev2.png
END:VEVENT
BEGIN:VEVENT
DTSTART;TZID=America/New_York:20280418T100000
DTEND;TZID=America/New_York:20280418T113000
DTSTAMP:20260423T141758
CREATED:20230918T193105Z
LAST-MODIFIED:20230921T190848Z
UID:10000339-1839664800-1839670200@www.encompasscommunitysupports.org
SUMMARY:Aging Services Advisory Council
DESCRIPTION:The Aging Services Advisory Council at Encompass Community Supports provides assistance and makes recommendations on policies and decisions affecting the Area Agency on Aging.
URL:https://www.encompasscommunitysupports.org/event/aging-services-advisory-council/2028-04-18/
LOCATION:Encompass Community Supports Culpeper\, 15361 Bradford Road\, Culpeper\, VA\, 22701\, United States
CATEGORIES:Aging Services Advisory Council Meetings
ATTACH;FMTTYPE=image/png:https://www.encompasscommunitysupports.org/wp-content/uploads/2023/09/ASAC-aging-svc-adv-council-rev2.png
END:VEVENT
BEGIN:VEVENT
DTSTART;TZID=America/New_York:20280516T100000
DTEND;TZID=America/New_York:20280516T113000
DTSTAMP:20260423T141758
CREATED:20230918T193105Z
LAST-MODIFIED:20230921T190848Z
UID:10000340-1842084000-1842089400@www.encompasscommunitysupports.org
SUMMARY:Aging Services Advisory Council
DESCRIPTION:The Aging Services Advisory Council at Encompass Community Supports provides assistance and makes recommendations on policies and decisions affecting the Area Agency on Aging.
URL:https://www.encompasscommunitysupports.org/event/aging-services-advisory-council/2028-05-16/
LOCATION:Encompass Community Supports Culpeper\, 15361 Bradford Road\, Culpeper\, VA\, 22701\, United States
CATEGORIES:Aging Services Advisory Council Meetings
ATTACH;FMTTYPE=image/png:https://www.encompasscommunitysupports.org/wp-content/uploads/2023/09/ASAC-aging-svc-adv-council-rev2.png
END:VEVENT
BEGIN:VEVENT
DTSTART;TZID=America/New_York:20280620T100000
DTEND;TZID=America/New_York:20280620T113000
DTSTAMP:20260423T141758
CREATED:20230918T193105Z
LAST-MODIFIED:20230921T190848Z
UID:10000341-1845108000-1845113400@www.encompasscommunitysupports.org
SUMMARY:Aging Services Advisory Council
DESCRIPTION:The Aging Services Advisory Council at Encompass Community Supports provides assistance and makes recommendations on policies and decisions affecting the Area Agency on Aging.
URL:https://www.encompasscommunitysupports.org/event/aging-services-advisory-council/2028-06-20/
LOCATION:Encompass Community Supports Culpeper\, 15361 Bradford Road\, Culpeper\, VA\, 22701\, United States
CATEGORIES:Aging Services Advisory Council Meetings
ATTACH;FMTTYPE=image/png:https://www.encompasscommunitysupports.org/wp-content/uploads/2023/09/ASAC-aging-svc-adv-council-rev2.png
END:VEVENT
BEGIN:VEVENT
DTSTART;TZID=America/New_York:20280718T100000
DTEND;TZID=America/New_York:20280718T113000
DTSTAMP:20260423T141758
CREATED:20230918T193105Z
LAST-MODIFIED:20230921T190848Z
UID:10000342-1847527200-1847532600@www.encompasscommunitysupports.org
SUMMARY:Aging Services Advisory Council
DESCRIPTION:The Aging Services Advisory Council at Encompass Community Supports provides assistance and makes recommendations on policies and decisions affecting the Area Agency on Aging.
URL:https://www.encompasscommunitysupports.org/event/aging-services-advisory-council/2028-07-18/
LOCATION:Encompass Community Supports Culpeper\, 15361 Bradford Road\, Culpeper\, VA\, 22701\, United States
CATEGORIES:Aging Services Advisory Council Meetings
ATTACH;FMTTYPE=image/png:https://www.encompasscommunitysupports.org/wp-content/uploads/2023/09/ASAC-aging-svc-adv-council-rev2.png
END:VEVENT
BEGIN:VEVENT
DTSTART;TZID=America/New_York:20280815T100000
DTEND;TZID=America/New_York:20280815T113000
DTSTAMP:20260423T141758
CREATED:20230918T193105Z
LAST-MODIFIED:20230921T190848Z
UID:10000343-1849946400-1849951800@www.encompasscommunitysupports.org
SUMMARY:Aging Services Advisory Council
DESCRIPTION:The Aging Services Advisory Council at Encompass Community Supports provides assistance and makes recommendations on policies and decisions affecting the Area Agency on Aging.
URL:https://www.encompasscommunitysupports.org/event/aging-services-advisory-council/2028-08-15/
LOCATION:Encompass Community Supports Culpeper\, 15361 Bradford Road\, Culpeper\, VA\, 22701\, United States
CATEGORIES:Aging Services Advisory Council Meetings
ATTACH;FMTTYPE=image/png:https://www.encompasscommunitysupports.org/wp-content/uploads/2023/09/ASAC-aging-svc-adv-council-rev2.png
END:VEVENT
BEGIN:VEVENT
DTSTART;TZID=America/New_York:20280919T100000
DTEND;TZID=America/New_York:20280919T113000
DTSTAMP:20260423T141758
CREATED:20230918T193105Z
LAST-MODIFIED:20230921T190848Z
UID:10000473-1852970400-1852975800@www.encompasscommunitysupports.org
SUMMARY:Aging Services Advisory Council
DESCRIPTION:The Aging Services Advisory Council at Encompass Community Supports provides assistance and makes recommendations on policies and decisions affecting the Area Agency on Aging.
URL:https://www.encompasscommunitysupports.org/event/aging-services-advisory-council/2028-09-19/
LOCATION:Encompass Community Supports Culpeper\, 15361 Bradford Road\, Culpeper\, VA\, 22701\, United States
CATEGORIES:Aging Services Advisory Council Meetings
ATTACH;FMTTYPE=image/png:https://www.encompasscommunitysupports.org/wp-content/uploads/2023/09/ASAC-aging-svc-adv-council-rev2.png
END:VEVENT
BEGIN:VEVENT
DTSTART;TZID=America/New_York:20281017T100000
DTEND;TZID=America/New_York:20281017T113000
DTSTAMP:20260423T141758
CREATED:20230918T193105Z
LAST-MODIFIED:20230921T190848Z
UID:10000845-1855389600-1855395000@www.encompasscommunitysupports.org
SUMMARY:Aging Services Advisory Council
DESCRIPTION:The Aging Services Advisory Council at Encompass Community Supports provides assistance and makes recommendations on policies and decisions affecting the Area Agency on Aging.
URL:https://www.encompasscommunitysupports.org/event/aging-services-advisory-council/2028-10-17/
LOCATION:Encompass Community Supports Culpeper\, 15361 Bradford Road\, Culpeper\, VA\, 22701\, United States
CATEGORIES:Aging Services Advisory Council Meetings
ATTACH;FMTTYPE=image/png:https://www.encompasscommunitysupports.org/wp-content/uploads/2023/09/ASAC-aging-svc-adv-council-rev2.png
END:VEVENT
BEGIN:VEVENT
DTSTART;TZID=America/New_York:20281121T100000
DTEND;TZID=America/New_York:20281121T113000
DTSTAMP:20260423T141758
CREATED:20230918T193105Z
LAST-MODIFIED:20230921T190848Z
UID:10000846-1858413600-1858419000@www.encompasscommunitysupports.org
SUMMARY:Aging Services Advisory Council
DESCRIPTION:The Aging Services Advisory Council at Encompass Community Supports provides assistance and makes recommendations on policies and decisions affecting the Area Agency on Aging.
URL:https://www.encompasscommunitysupports.org/event/aging-services-advisory-council/2028-11-21/
LOCATION:Encompass Community Supports Culpeper\, 15361 Bradford Road\, Culpeper\, VA\, 22701\, United States
CATEGORIES:Aging Services Advisory Council Meetings
ATTACH;FMTTYPE=image/png:https://www.encompasscommunitysupports.org/wp-content/uploads/2023/09/ASAC-aging-svc-adv-council-rev2.png
END:VEVENT
BEGIN:VEVENT
DTSTART;TZID=America/New_York:20281219T100000
DTEND;TZID=America/New_York:20281219T113000
DTSTAMP:20260423T141758
CREATED:20230918T193105Z
LAST-MODIFIED:20230921T190848Z
UID:10000847-1860832800-1860838200@www.encompasscommunitysupports.org
SUMMARY:Aging Services Advisory Council
DESCRIPTION:The Aging Services Advisory Council at Encompass Community Supports provides assistance and makes recommendations on policies and decisions affecting the Area Agency on Aging.
URL:https://www.encompasscommunitysupports.org/event/aging-services-advisory-council/2028-12-19/
LOCATION:Encompass Community Supports Culpeper\, 15361 Bradford Road\, Culpeper\, VA\, 22701\, United States
CATEGORIES:Aging Services Advisory Council Meetings
ATTACH;FMTTYPE=image/png:https://www.encompasscommunitysupports.org/wp-content/uploads/2023/09/ASAC-aging-svc-adv-council-rev2.png
END:VEVENT
BEGIN:VEVENT
DTSTART;TZID=America/New_York:20290116T100000
DTEND;TZID=America/New_York:20290116T113000
DTSTAMP:20260423T141758
CREATED:20230918T193105Z
LAST-MODIFIED:20230921T190848Z
UID:10000848-1863252000-1863257400@www.encompasscommunitysupports.org
SUMMARY:Aging Services Advisory Council
DESCRIPTION:The Aging Services Advisory Council at Encompass Community Supports provides assistance and makes recommendations on policies and decisions affecting the Area Agency on Aging.
URL:https://www.encompasscommunitysupports.org/event/aging-services-advisory-council/2029-01-16/
LOCATION:Encompass Community Supports Culpeper\, 15361 Bradford Road\, Culpeper\, VA\, 22701\, United States
CATEGORIES:Aging Services Advisory Council Meetings
ATTACH;FMTTYPE=image/png:https://www.encompasscommunitysupports.org/wp-content/uploads/2023/09/ASAC-aging-svc-adv-council-rev2.png
END:VEVENT
BEGIN:VEVENT
DTSTART;TZID=America/New_York:20290220T100000
DTEND;TZID=America/New_York:20290220T113000
DTSTAMP:20260423T141758
CREATED:20230918T193105Z
LAST-MODIFIED:20230921T190848Z
UID:10000849-1866276000-1866281400@www.encompasscommunitysupports.org
SUMMARY:Aging Services Advisory Council
DESCRIPTION:The Aging Services Advisory Council at Encompass Community Supports provides assistance and makes recommendations on policies and decisions affecting the Area Agency on Aging.
URL:https://www.encompasscommunitysupports.org/event/aging-services-advisory-council/2029-02-20/
LOCATION:Encompass Community Supports Culpeper\, 15361 Bradford Road\, Culpeper\, VA\, 22701\, United States
CATEGORIES:Aging Services Advisory Council Meetings
ATTACH;FMTTYPE=image/png:https://www.encompasscommunitysupports.org/wp-content/uploads/2023/09/ASAC-aging-svc-adv-council-rev2.png
END:VEVENT
BEGIN:VEVENT
DTSTART;TZID=America/New_York:20290320T100000
DTEND;TZID=America/New_York:20290320T113000
DTSTAMP:20260423T141758
CREATED:20230918T193105Z
LAST-MODIFIED:20230921T190848Z
UID:10000850-1868695200-1868700600@www.encompasscommunitysupports.org
SUMMARY:Aging Services Advisory Council
DESCRIPTION:The Aging Services Advisory Council at Encompass Community Supports provides assistance and makes recommendations on policies and decisions affecting the Area Agency on Aging.
URL:https://www.encompasscommunitysupports.org/event/aging-services-advisory-council/2029-03-20/
LOCATION:Encompass Community Supports Culpeper\, 15361 Bradford Road\, Culpeper\, VA\, 22701\, United States
CATEGORIES:Aging Services Advisory Council Meetings
ATTACH;FMTTYPE=image/png:https://www.encompasscommunitysupports.org/wp-content/uploads/2023/09/ASAC-aging-svc-adv-council-rev2.png
END:VEVENT
BEGIN:VEVENT
DTSTART;TZID=America/New_York:20290417T100000
DTEND;TZID=America/New_York:20290417T113000
DTSTAMP:20260423T141758
CREATED:20230918T193105Z
LAST-MODIFIED:20230921T190848Z
UID:10000851-1871114400-1871119800@www.encompasscommunitysupports.org
SUMMARY:Aging Services Advisory Council
DESCRIPTION:The Aging Services Advisory Council at Encompass Community Supports provides assistance and makes recommendations on policies and decisions affecting the Area Agency on Aging.
URL:https://www.encompasscommunitysupports.org/event/aging-services-advisory-council/2029-04-17/
LOCATION:Encompass Community Supports Culpeper\, 15361 Bradford Road\, Culpeper\, VA\, 22701\, United States
CATEGORIES:Aging Services Advisory Council Meetings
ATTACH;FMTTYPE=image/png:https://www.encompasscommunitysupports.org/wp-content/uploads/2023/09/ASAC-aging-svc-adv-council-rev2.png
END:VEVENT
BEGIN:VEVENT
DTSTART;TZID=America/New_York:20290515T100000
DTEND;TZID=America/New_York:20290515T113000
DTSTAMP:20260423T141758
CREATED:20230918T193105Z
LAST-MODIFIED:20230921T190848Z
UID:10000852-1873533600-1873539000@www.encompasscommunitysupports.org
SUMMARY:Aging Services Advisory Council
DESCRIPTION:The Aging Services Advisory Council at Encompass Community Supports provides assistance and makes recommendations on policies and decisions affecting the Area Agency on Aging.
URL:https://www.encompasscommunitysupports.org/event/aging-services-advisory-council/2029-05-15/
LOCATION:Encompass Community Supports Culpeper\, 15361 Bradford Road\, Culpeper\, VA\, 22701\, United States
CATEGORIES:Aging Services Advisory Council Meetings
ATTACH;FMTTYPE=image/png:https://www.encompasscommunitysupports.org/wp-content/uploads/2023/09/ASAC-aging-svc-adv-council-rev2.png
END:VEVENT
BEGIN:VEVENT
DTSTART;TZID=America/New_York:20290619T100000
DTEND;TZID=America/New_York:20290619T113000
DTSTAMP:20260423T141758
CREATED:20230918T193105Z
LAST-MODIFIED:20230921T190848Z
UID:10000853-1876557600-1876563000@www.encompasscommunitysupports.org
SUMMARY:Aging Services Advisory Council
DESCRIPTION:The Aging Services Advisory Council at Encompass Community Supports provides assistance and makes recommendations on policies and decisions affecting the Area Agency on Aging.
URL:https://www.encompasscommunitysupports.org/event/aging-services-advisory-council/2029-06-19/
LOCATION:Encompass Community Supports Culpeper\, 15361 Bradford Road\, Culpeper\, VA\, 22701\, United States
CATEGORIES:Aging Services Advisory Council Meetings
ATTACH;FMTTYPE=image/png:https://www.encompasscommunitysupports.org/wp-content/uploads/2023/09/ASAC-aging-svc-adv-council-rev2.png
END:VEVENT
BEGIN:VEVENT
DTSTART;TZID=America/New_York:20290717T100000
DTEND;TZID=America/New_York:20290717T113000
DTSTAMP:20260423T141758
CREATED:20230918T193105Z
LAST-MODIFIED:20230921T190848Z
UID:10000854-1878976800-1878982200@www.encompasscommunitysupports.org
SUMMARY:Aging Services Advisory Council
DESCRIPTION:The Aging Services Advisory Council at Encompass Community Supports provides assistance and makes recommendations on policies and decisions affecting the Area Agency on Aging.
URL:https://www.encompasscommunitysupports.org/event/aging-services-advisory-council/2029-07-17/
LOCATION:Encompass Community Supports Culpeper\, 15361 Bradford Road\, Culpeper\, VA\, 22701\, United States
CATEGORIES:Aging Services Advisory Council Meetings
ATTACH;FMTTYPE=image/png:https://www.encompasscommunitysupports.org/wp-content/uploads/2023/09/ASAC-aging-svc-adv-council-rev2.png
END:VEVENT
BEGIN:VEVENT
DTSTART;TZID=America/New_York:20290821T100000
DTEND;TZID=America/New_York:20290821T113000
DTSTAMP:20260423T141758
CREATED:20230918T193105Z
LAST-MODIFIED:20230921T190848Z
UID:10000855-1882000800-1882006200@www.encompasscommunitysupports.org
SUMMARY:Aging Services Advisory Council
DESCRIPTION:The Aging Services Advisory Council at Encompass Community Supports provides assistance and makes recommendations on policies and decisions affecting the Area Agency on Aging.
URL:https://www.encompasscommunitysupports.org/event/aging-services-advisory-council/2029-08-21/
LOCATION:Encompass Community Supports Culpeper\, 15361 Bradford Road\, Culpeper\, VA\, 22701\, United States
CATEGORIES:Aging Services Advisory Council Meetings
ATTACH;FMTTYPE=image/png:https://www.encompasscommunitysupports.org/wp-content/uploads/2023/09/ASAC-aging-svc-adv-council-rev2.png
END:VEVENT
BEGIN:VEVENT
DTSTART;TZID=America/New_York:20290918T100000
DTEND;TZID=America/New_York:20290918T113000
DTSTAMP:20260423T141758
CREATED:20230918T193105Z
LAST-MODIFIED:20230921T190848Z
UID:10000856-1884420000-1884425400@www.encompasscommunitysupports.org
SUMMARY:Aging Services Advisory Council
DESCRIPTION:The Aging Services Advisory Council at Encompass Community Supports provides assistance and makes recommendations on policies and decisions affecting the Area Agency on Aging.
URL:https://www.encompasscommunitysupports.org/event/aging-services-advisory-council/2029-09-18/
LOCATION:Encompass Community Supports Culpeper\, 15361 Bradford Road\, Culpeper\, VA\, 22701\, United States
CATEGORIES:Aging Services Advisory Council Meetings
ATTACH;FMTTYPE=image/png:https://www.encompasscommunitysupports.org/wp-content/uploads/2023/09/ASAC-aging-svc-adv-council-rev2.png
END:VEVENT
BEGIN:VEVENT
DTSTART;TZID=America/New_York:20291016T100000
DTEND;TZID=America/New_York:20291016T113000
DTSTAMP:20260423T141758
CREATED:20230918T193105Z
LAST-MODIFIED:20230921T190848Z
UID:10000857-1886839200-1886844600@www.encompasscommunitysupports.org
SUMMARY:Aging Services Advisory Council
DESCRIPTION:The Aging Services Advisory Council at Encompass Community Supports provides assistance and makes recommendations on policies and decisions affecting the Area Agency on Aging.
URL:https://www.encompasscommunitysupports.org/event/aging-services-advisory-council/2029-10-16/
LOCATION:Encompass Community Supports Culpeper\, 15361 Bradford Road\, Culpeper\, VA\, 22701\, United States
CATEGORIES:Aging Services Advisory Council Meetings
ATTACH;FMTTYPE=image/png:https://www.encompasscommunitysupports.org/wp-content/uploads/2023/09/ASAC-aging-svc-adv-council-rev2.png
END:VEVENT
END:VCALENDAR