BEGIN:VCALENDAR
VERSION:2.0
PRODID:-//Encompass Community Supports - ECPv6.15.20//NONSGML v1.0//EN
CALSCALE:GREGORIAN
METHOD:PUBLISH
X-WR-CALNAME:Encompass Community Supports
X-ORIGINAL-URL:https://www.encompasscommunitysupports.org
X-WR-CALDESC:Events for Encompass Community Supports
REFRESH-INTERVAL;VALUE=DURATION:PT1H
X-Robots-Tag:noindex
X-PUBLISHED-TTL:PT1H
BEGIN:VTIMEZONE
TZID:America/New_York
BEGIN:DAYLIGHT
TZOFFSETFROM:-0500
TZOFFSETTO:-0400
TZNAME:EDT
DTSTART:20240310T070000
END:DAYLIGHT
BEGIN:STANDARD
TZOFFSETFROM:-0400
TZOFFSETTO:-0500
TZNAME:EST
DTSTART:20241103T060000
END:STANDARD
BEGIN:DAYLIGHT
TZOFFSETFROM:-0500
TZOFFSETTO:-0400
TZNAME:EDT
DTSTART:20250309T070000
END:DAYLIGHT
BEGIN:STANDARD
TZOFFSETFROM:-0400
TZOFFSETTO:-0500
TZNAME:EST
DTSTART:20251102T060000
END:STANDARD
BEGIN:DAYLIGHT
TZOFFSETFROM:-0500
TZOFFSETTO:-0400
TZNAME:EDT
DTSTART:20260308T070000
END:DAYLIGHT
BEGIN:STANDARD
TZOFFSETFROM:-0400
TZOFFSETTO:-0500
TZNAME:EST
DTSTART:20261101T060000
END:STANDARD
END:VTIMEZONE
BEGIN:VEVENT
DTSTART;VALUE=DATE:20251104
DTEND;VALUE=DATE:20251105
DTSTAMP:20260423T193419
CREATED:20241230T154715Z
LAST-MODIFIED:20241230T154715Z
UID:10000759-1762214400-1762300799@www.encompasscommunitysupports.org
SUMMARY:Election Day (Holiday)
DESCRIPTION:Offices are closed.
URL:https://www.encompasscommunitysupports.org/event/election-day-holiday/2025-11-04/
LOCATION:VA
CATEGORIES:Encompass Community Supports Events
ATTACH;FMTTYPE=image/png:https://www.encompasscommunitysupports.org/wp-content/uploads/2023/11/231107-Election-Day-Capture.png
END:VEVENT
BEGIN:VEVENT
DTSTART;VALUE=DATE:20251111
DTEND;VALUE=DATE:20251112
DTSTAMP:20260423T193419
CREATED:20241230T154902Z
LAST-MODIFIED:20241230T154940Z
UID:10000764-1762819200-1762905599@www.encompasscommunitysupports.org
SUMMARY:Veterans Day (Holiday)
DESCRIPTION:Offices are closed.
URL:https://www.encompasscommunitysupports.org/event/veterans-day-holiday/2025-11-11/
LOCATION:VA
CATEGORIES:Encompass Community Supports Events
ATTACH;FMTTYPE=image/png:https://www.encompasscommunitysupports.org/wp-content/uploads/2024/06/11-11-Veterans-Day.png
END:VEVENT
BEGIN:VEVENT
DTSTART;TZID=America/New_York:20251112T110000
DTEND;TZID=America/New_York:20251112T123000
DTSTAMP:20260423T193419
CREATED:20251027T153333Z
LAST-MODIFIED:20251027T153813Z
UID:10000798-1762945200-1762950600@www.encompasscommunitysupports.org
SUMMARY:Development and Executive Joint Committee Mtg
DESCRIPTION:The Development and Community Relations Committee and the Board’s Executive Committee will meet together for an in-person-only meeting. \nTo request a Public Comment\, please see the Public Comment Period Code of Ethics and Standards of Conduct at:\nhttps://ecsva.diligent.community/Portal/CitizenEngagement.aspx
URL:https://www.encompasscommunitysupports.org/event/development-and-community-relations-committee-6/
LOCATION:Encompass Community Supports Culpeper\, 15361 Bradford Road\, Culpeper\, VA\, 22701\, United States
CATEGORIES:Encompass Community Supports Events
ATTACH;FMTTYPE=image/png:https://www.encompasscommunitysupports.org/wp-content/uploads/2023/05/ECS-sticky-logo-transparent-210x70-1.png
END:VEVENT
BEGIN:VEVENT
DTSTART;TZID=America/New_York:20251112T130000
DTEND;TZID=America/New_York:20251112T150000
DTSTAMP:20260423T193419
CREATED:20251027T152917Z
LAST-MODIFIED:20251027T152933Z
UID:10000812-1762952400-1762959600@www.encompasscommunitysupports.org
SUMMARY:Regular Board Meeting
DESCRIPTION:To request a Public Comment\, please see the Public Comment Period Code of Ethics and Standards of Conduct at:\nhttps://ecsva.diligent.community/Portal/CitizenEngagement.aspx \n  \nMicrosoft Teams meeting\nJoin on your computer\, mobile app\, or room device\nClick here to join the meeting\nMeeting ID: 221 264 349 339\nPasscode: E4Kuc4\nDownload Teams | Join on the web\nOr call in (audio only)\n+1 424-566-7541\,\,636601850#   United States\, Los Angeles\nPhone Conference ID: 636 601 850#\nFind a local number | Reset PIN\nLearn More | Meeting options
URL:https://www.encompasscommunitysupports.org/event/regular-board-meeting-9/
LOCATION:Encompass Community Supports Culpeper\, 15361 Bradford Road\, Culpeper\, VA\, 22701\, United States
CATEGORIES:Encompass Community Supports Events
ATTACH;FMTTYPE=image/png:https://www.encompasscommunitysupports.org/wp-content/uploads/2023/09/BoardMeeting.png
END:VEVENT
BEGIN:VEVENT
DTSTART;TZID=America/New_York:20251118T130000
DTEND;TZID=America/New_York:20251118T143000
DTSTAMP:20260423T193419
CREATED:20251027T154219Z
LAST-MODIFIED:20251027T154229Z
UID:10000190-1763470800-1763476200@www.encompasscommunitysupports.org
SUMMARY:Program Committee
DESCRIPTION:To request a Public Comment\, please see the Public Comment Period Code of Ethics and Standards of Conduct at:\nhttps://ecsva.diligent.community/Portal/CitizenEngagement.aspx \nMicrosoft Teams meeting\nJoin on your computer\, mobile app or room device\nClick here to join the meeting\nMeeting ID: 218 024 709 567\nPasscode: NKFbGE\nDownload Teams | Join on the web\nOr call in (audio only)\n+1 424-566-7541\,\,561974104#   United States\, Los Angeles\nPhone Conference ID: 561 974 104#\nFind a local number | Reset PIN\nLearn More | Meeting options
URL:https://www.encompasscommunitysupports.org/event/program-committee-11/
LOCATION:Encompass Community Supports Culpeper\, 15361 Bradford Road\, Culpeper\, VA\, 22701\, United States
CATEGORIES:Encompass Community Supports Events
ATTACH;FMTTYPE=image/png:https://www.encompasscommunitysupports.org/wp-content/uploads/2023/09/Program_feature-image.png
END:VEVENT
BEGIN:VEVENT
DTSTART;TZID=America/New_York:20251125T080000
DTEND;TZID=America/New_York:20251125T160000
DTSTAMP:20260423T193419
CREATED:20240209T212055Z
LAST-MODIFIED:20240209T212055Z
UID:10000544-1764057600-1764086400@www.encompasscommunitysupports.org
SUMMARY:Developmental Screenings (Newborn to 3 yrs)
DESCRIPTION:
URL:https://www.encompasscommunitysupports.org/event/developmental-screenings-newborn-to-3-yrs/2025-11-25/
LOCATION:S.E.E. Recovery Center\, 710 US Avenue\, Culpeper\, VA\, 22701\, United States
CATEGORIES:Encompass Community Supports Events,In the Community
ATTACH;FMTTYPE=image/png:https://www.encompasscommunitysupports.org/wp-content/uploads/2024/02/ITC-Developmental-Screenings-Every-4th-TuesdaysCapture.png
END:VEVENT
BEGIN:VEVENT
DTSTART;TZID=America/New_York:20251125T110000
DTEND;TZID=America/New_York:20251125T123000
DTSTAMP:20260423T193419
CREATED:20250113T210737Z
LAST-MODIFIED:20250113T211045Z
UID:10000131-1764068400-1764073800@www.encompasscommunitysupports.org
SUMMARY:Finance & Administrative Services Committee
DESCRIPTION:To request a Public Comment\, please see the Public Comment Period Code of Ethics and Standards of Conduct at:\nhttps://ecsva.diligent.community/Portal/CitizenEngagement.aspx \nMicrosoft Teams meeting\nJoin on your computer\, mobile app or room device\nClick here to join the meeting\nMeeting ID: 245 302 553 105\nPasscode: GVc8bv\nDownload Teams | Join on the web\nOr call in (audio only)\n+1 424-566-7541\,\,802191294#   United States\, Los Angeles\nPhone Conference ID: 802 191 294#\nFind a local number | Reset PIN\nLearn More | Meeting options \n 
URL:https://www.encompasscommunitysupports.org/event/finance-administrative-services-committee-4-2/2025-11-25/
LOCATION:Encompass Community Supports Culpeper\, 15361 Bradford Road\, Culpeper\, VA\, 22701\, United States
CATEGORIES:Encompass Community Supports Events
ATTACH;FMTTYPE=image/png:https://www.encompasscommunitysupports.org/wp-content/uploads/2023/08/Finance-and-Admin-Committee-Meetings.png
END:VEVENT
BEGIN:VEVENT
DTSTART;TZID=America/New_York:20251126T120000
DTEND;TZID=America/New_York:20251128T170000
DTSTAMP:20260423T193419
CREATED:20241230T155233Z
LAST-MODIFIED:20241230T155313Z
UID:10000769-1764158400-1764349200@www.encompasscommunitysupports.org
SUMMARY:Thanksgiving (Holiday)
DESCRIPTION:Offices are closed.
URL:https://www.encompasscommunitysupports.org/event/thanksgiving-holiday/
LOCATION:VA
CATEGORIES:Encompass Community Supports Events
ATTACH;FMTTYPE=image/jpeg:https://www.encompasscommunitysupports.org/wp-content/uploads/2024/06/11-Happy-Thanksgiving.jpg
END:VEVENT
END:VCALENDAR