BEGIN:VCALENDAR
VERSION:2.0
PRODID:-//Encompass Community Supports - ECPv6.15.20//NONSGML v1.0//EN
CALSCALE:GREGORIAN
METHOD:PUBLISH
X-ORIGINAL-URL:https://www.encompasscommunitysupports.org
X-WR-CALDESC:Events for Encompass Community Supports
REFRESH-INTERVAL;VALUE=DURATION:PT1H
X-Robots-Tag:noindex
X-PUBLISHED-TTL:PT1H
BEGIN:VTIMEZONE
TZID:America/New_York
BEGIN:DAYLIGHT
TZOFFSETFROM:-0500
TZOFFSETTO:-0400
TZNAME:EDT
DTSTART:20260308T070000
END:DAYLIGHT
BEGIN:STANDARD
TZOFFSETFROM:-0400
TZOFFSETTO:-0500
TZNAME:EST
DTSTART:20261101T060000
END:STANDARD
BEGIN:DAYLIGHT
TZOFFSETFROM:-0500
TZOFFSETTO:-0400
TZNAME:EDT
DTSTART:20270314T070000
END:DAYLIGHT
BEGIN:STANDARD
TZOFFSETFROM:-0400
TZOFFSETTO:-0500
TZNAME:EST
DTSTART:20271107T060000
END:STANDARD
BEGIN:DAYLIGHT
TZOFFSETFROM:-0500
TZOFFSETTO:-0400
TZNAME:EDT
DTSTART:20280312T070000
END:DAYLIGHT
BEGIN:STANDARD
TZOFFSETFROM:-0400
TZOFFSETTO:-0500
TZNAME:EST
DTSTART:20281105T060000
END:STANDARD
END:VTIMEZONE
BEGIN:VEVENT
DTSTART;VALUE=DATE:20270101
DTEND;VALUE=DATE:20270102
DTSTAMP:20260424T012014
CREATED:20241230T152053Z
LAST-MODIFIED:20241230T153201Z
UID:10000735-1798761600-1798847999@www.encompasscommunitysupports.org
SUMMARY:New Year's Day (Holiday)
DESCRIPTION:Offices are closed.
URL:https://www.encompasscommunitysupports.org/event/new-years-day-holiday/2027-01-01/
LOCATION:VA
CATEGORIES:Encompass Community Supports Events
ATTACH;FMTTYPE=image/png:https://www.encompasscommunitysupports.org/wp-content/uploads/2023/11/240101-Happy-New-Year-2024-Capture.png
END:VEVENT
BEGIN:VEVENT
DTSTART;TZID=America/New_York:20270105T110000
DTEND;TZID=America/New_York:20270105T123000
DTSTAMP:20260424T012014
CREATED:20250113T204901Z
LAST-MODIFIED:20260225T154548Z
UID:10000987-1799146800-1799152200@www.encompasscommunitysupports.org
SUMMARY:Development and Community Relations Committee
DESCRIPTION:This Development and Community Relations Committee of the Board is an in-person-only meeting. \nTo request a Public Comment\, please see the Public Comment Period Code of Ethics and Standards of Conduct at:\nhttps://ecsva.diligent.community/Portal/CitizenEngagement.aspx
URL:https://www.encompasscommunitysupports.org/event/development-and-community-relations-committee/2027-01-05/
LOCATION:Encompass Community Supports Culpeper\, 15361 Bradford Road\, Culpeper\, VA\, 22701\, United States
CATEGORIES:Encompass Community Supports Events
ATTACH;FMTTYPE=image/png:https://www.encompasscommunitysupports.org/wp-content/uploads/2023/09/Development_feature-image.png
END:VEVENT
BEGIN:VEVENT
DTSTART;TZID=America/New_York:20270105T130000
DTEND;TZID=America/New_York:20270105T150000
DTSTAMP:20260424T012014
CREATED:20250113T203856Z
LAST-MODIFIED:20260225T154749Z
UID:10001047-1799154000-1799161200@www.encompasscommunitysupports.org
SUMMARY:Executive Committee
DESCRIPTION:This Executive Committee of the Board is an in-person-only meeting. \nTo request a Public Comment\, please see the Public Comment Period Code of Ethics and Standards of Conduct at:\nhttps://ecsva.diligent.community/Portal/CitizenEngagement.aspx
URL:https://www.encompasscommunitysupports.org/event/executive-committee/2027-01-05/
LOCATION:Encompass Community Supports Culpeper\, 15361 Bradford Road\, Culpeper\, VA\, 22701\, United States
CATEGORIES:Encompass Community Supports Events
ATTACH;FMTTYPE=image/png:https://www.encompasscommunitysupports.org/wp-content/uploads/2023/09/Executive_feature-image.png
END:VEVENT
BEGIN:VEVENT
DTSTART;TZID=America/New_York:20270112T130000
DTEND;TZID=America/New_York:20270112T150000
DTSTAMP:20260424T012014
CREATED:20250113T205508Z
LAST-MODIFIED:20260206T143531Z
UID:10000899-1799758800-1799766000@www.encompasscommunitysupports.org
SUMMARY:Regular Board Meeting
DESCRIPTION:To request a Public Comment\, please see the Public Comment Period Code of Ethics and Standards of Conduct at:\nhttps://ecsva.diligent.community/Portal/CitizenEngagement.aspx \nMicrosoft Teams Need help?\nJoin the meeting now\nMeeting ID: 269 802 111 366 77\nPasscode: Tw2mm6b5 \nDial in by phone\nFind a local number\nPhone conference ID: 151 423 862#
URL:https://www.encompasscommunitysupports.org/event/regular-board-meeting-7/2027-01-12/
LOCATION:Encompass Community Supports Culpeper\, 15361 Bradford Road\, Culpeper\, VA\, 22701\, United States
CATEGORIES:Encompass Community Supports Events
ATTACH;FMTTYPE=image/png:https://www.encompasscommunitysupports.org/wp-content/uploads/2023/09/BoardMeeting.png
END:VEVENT
BEGIN:VEVENT
DTSTART;TZID=America/New_York:20270126T080000
DTEND;TZID=America/New_York:20270126T160000
DTSTAMP:20260424T012014
CREATED:20240209T212055Z
LAST-MODIFIED:20240209T212055Z
UID:10000558-1800950400-1800979200@www.encompasscommunitysupports.org
SUMMARY:Developmental Screenings (Newborn to 3 yrs)
DESCRIPTION:
URL:https://www.encompasscommunitysupports.org/event/developmental-screenings-newborn-to-3-yrs/2027-01-26/
LOCATION:S.E.E. Recovery Center\, 710 US Avenue\, Culpeper\, VA\, 22701\, United States
CATEGORIES:Encompass Community Supports Events,In the Community
ATTACH;FMTTYPE=image/png:https://www.encompasscommunitysupports.org/wp-content/uploads/2024/02/ITC-Developmental-Screenings-Every-4th-TuesdaysCapture.png
END:VEVENT
BEGIN:VEVENT
DTSTART;TZID=America/New_York:20270126T100000
DTEND;TZID=America/New_York:20270126T120000
DTSTAMP:20260424T012014
CREATED:20260225T154947Z
LAST-MODIFIED:20260225T155250Z
UID:10001106-1800957600-1800964800@www.encompasscommunitysupports.org
SUMMARY:Finance & Administrative Services Committee
DESCRIPTION:To request a Public Comment\, please see the Public Comment Period Code of Ethics and Standards of Conduct at:\nhttps://ecsva.diligent.community/Portal/CitizenEngagement.aspx \n  \nMicrosoft Teams Need help?\nJoin the meeting now\nMeeting ID: 290 654 134 551 90\nPasscode: dd3ec7rU\nDial in by phone\nFind a local number\nPhone conference ID: 914 017 65#
URL:https://www.encompasscommunitysupports.org/event/finance-administrative-services-committee-4-2-2/2027-01-26/
LOCATION:Encompass Community Supports Culpeper\, 15361 Bradford Road\, Culpeper\, VA\, 22701\, United States
CATEGORIES:Encompass Community Supports Events
ATTACH;FMTTYPE=image/png:https://www.encompasscommunitysupports.org/wp-content/uploads/2023/08/Finance-and-Admin-Committee-Meetings.png
END:VEVENT
BEGIN:VEVENT
DTSTART;TZID=America/New_York:20270126T124500
DTEND;TZID=America/New_York:20270126T144500
DTSTAMP:20260424T012014
CREATED:20260223T182049Z
LAST-MODIFIED:20260223T182049Z
UID:10000952-1800967500-1800974700@www.encompasscommunitysupports.org
SUMMARY:Program Committee
DESCRIPTION:To request a Public Comment\, please see the Public Comment Period Code of Ethics and Standards of Conduct at:\nhttps://ecsva.diligent.community/Portal/CitizenEngagement.aspx \nMicrosoft Teams Need help?\nJoin the meeting now\nMeeting ID: 296 130 025 490 15\nPasscode: 249ot6vG\nDial in by phone\n+1 424-566-7541\,\,270237338# United States\, Beverly Hills\nFind a local number\nPhone conference ID: 270 237 338#
URL:https://www.encompasscommunitysupports.org/event/program-committee-4-2-2/2027-01-26/
LOCATION:Encompass Community Supports Culpeper\, 15361 Bradford Road\, Culpeper\, VA\, 22701\, United States
CATEGORIES:Encompass Community Supports Events
ATTACH;FMTTYPE=image/png:https://www.encompasscommunitysupports.org/wp-content/uploads/2023/09/Program_feature-image.png
END:VEVENT
END:VCALENDAR