BEGIN:VCALENDAR
VERSION:2.0
PRODID:-//Encompass Community Supports - ECPv6.15.20//NONSGML v1.0//EN
CALSCALE:GREGORIAN
METHOD:PUBLISH
X-WR-CALNAME:Encompass Community Supports
X-ORIGINAL-URL:https://www.encompasscommunitysupports.org
X-WR-CALDESC:Events for Encompass Community Supports
REFRESH-INTERVAL;VALUE=DURATION:PT1H
X-Robots-Tag:noindex
X-PUBLISHED-TTL:PT1H
BEGIN:VTIMEZONE
TZID:America/New_York
BEGIN:DAYLIGHT
TZOFFSETFROM:-0500
TZOFFSETTO:-0400
TZNAME:EDT
DTSTART:20240310T070000
END:DAYLIGHT
BEGIN:STANDARD
TZOFFSETFROM:-0400
TZOFFSETTO:-0500
TZNAME:EST
DTSTART:20241103T060000
END:STANDARD
BEGIN:DAYLIGHT
TZOFFSETFROM:-0500
TZOFFSETTO:-0400
TZNAME:EDT
DTSTART:20250309T070000
END:DAYLIGHT
BEGIN:STANDARD
TZOFFSETFROM:-0400
TZOFFSETTO:-0500
TZNAME:EST
DTSTART:20251102T060000
END:STANDARD
BEGIN:DAYLIGHT
TZOFFSETFROM:-0500
TZOFFSETTO:-0400
TZNAME:EDT
DTSTART:20260308T070000
END:DAYLIGHT
BEGIN:STANDARD
TZOFFSETFROM:-0400
TZOFFSETTO:-0500
TZNAME:EST
DTSTART:20261101T060000
END:STANDARD
END:VTIMEZONE
BEGIN:VEVENT
DTSTART;TZID=America/New_York:20250506T110000
DTEND;TZID=America/New_York:20250506T123000
DTSTAMP:20260423T024758
CREATED:20250410T201647Z
LAST-MODIFIED:20250410T201749Z
UID:10000792-1746529200-1746534600@www.encompasscommunitysupports.org
SUMMARY:(Canceled) Development and Community Relations Committee
DESCRIPTION:This Development and Community Relations Committee of the Board is an in-person-only meeting. \nTo request a Public Comment\, please see the Public Comment Period Code of Ethics and Standards of Conduct at:\nhttps://ecsva.diligent.community/Portal/CitizenEngagement.aspx
URL:https://www.encompasscommunitysupports.org/event/development-and-community-relations-committee-2/
LOCATION:VA
CATEGORIES:Encompass Community Supports Events
ATTACH;FMTTYPE=image/png:https://www.encompasscommunitysupports.org/wp-content/uploads/2024/05/Canceled-Picture1-e1717077401378.png
END:VEVENT
BEGIN:VEVENT
DTSTART;TZID=America/New_York:20250513T100000
DTEND;TZID=America/New_York:20250513T113000
DTSTAMP:20260423T024758
CREATED:20250410T201854Z
LAST-MODIFIED:20250410T202124Z
UID:10000779-1747130400-1747135800@www.encompasscommunitysupports.org
SUMMARY:Executive Committee
DESCRIPTION:This Executive Committee of the Board is an in-person-only meeting. \nTo request a Public Comment\, please see the Public Comment Period Code of Ethics and Standards of Conduct at:\nhttps://ecsva.diligent.community/Portal/CitizenEngagement.aspx
URL:https://www.encompasscommunitysupports.org/event/executive-committee-2/
LOCATION:Thrift Road Office\, Madison\, 302 Thrift Road\, Madison\, Virginia\, 22727\, United States
CATEGORIES:Encompass Community Supports Events
ATTACH;FMTTYPE=image/png:https://www.encompasscommunitysupports.org/wp-content/uploads/2023/09/Executive_feature-image.png
END:VEVENT
BEGIN:VEVENT
DTSTART;TZID=America/New_York:20250513T120000
DTEND;TZID=America/New_York:20250513T130000
DTSTAMP:20260423T024758
CREATED:20250410T202504Z
LAST-MODIFIED:20250410T202504Z
UID:10000826-1747137600-1747141200@www.encompasscommunitysupports.org
SUMMARY:Madison County Community Reception
DESCRIPTION:Encompass Community Supports invites you to join us for a Community Reception in Madison County. \nTuesday\, May 13\, 2025\, from 12 pm to 1 pm. \nLocation: 302 Thrift Road\, Madison\, VA 22727 \nLeadership will be present to discuss our services and answer any questions. \nThe Regular Board Meeting will begin at 1 pm\, all are welcome to attend.
URL:https://www.encompasscommunitysupports.org/event/madison-county-community-reception/
LOCATION:Thrift Road Office\, Madison\, 302 Thrift Road\, Madison\, Virginia\, 22727\, United States
CATEGORIES:Encompass Community Supports Events
END:VEVENT
BEGIN:VEVENT
DTSTART;TZID=America/New_York:20250513T130000
DTEND;TZID=America/New_York:20250513T150000
DTSTAMP:20260423T024758
CREATED:20250507T195142Z
LAST-MODIFIED:20250507T195341Z
UID:10000806-1747141200-1747148400@www.encompasscommunitysupports.org
SUMMARY:Regular Board Meeting (Madison County)
DESCRIPTION:This meeting will be in person only at 302 Thrift Road\, Madison\, VA 22727
URL:https://www.encompasscommunitysupports.org/event/regular-board-meeting-5/
LOCATION:ECS Madison\, 302 Thrift Road\,\, Madison\,\, 22727\, United States
CATEGORIES:Encompass Community Supports Events
ATTACH;FMTTYPE=image/png:https://www.encompasscommunitysupports.org/wp-content/uploads/2023/09/BoardMeeting.png
END:VEVENT
BEGIN:VEVENT
DTSTART;TZID=America/New_York:20250519T190000
DTEND;TZID=America/New_York:20250519T200000
DTSTAMP:20260423T024758
CREATED:20230711T193554Z
LAST-MODIFIED:20230921T185423Z
UID:10000045-1747681200-1747684800@www.encompasscommunitysupports.org
SUMMARY:Survivors for Life: Suicide Support Meeting
DESCRIPTION:Survivors for Life is a support group for those affected by the unique grief associated with the loss of a loved one to suicide.  Meetings are held on the third Mondays of each month\, at 7:00 PM\, at the main offices of Encompass Community Services.  The meetings provide a safe place for grieving\, and a place to talk and get support. \nSponsored by Team Jordan and facilitated by Alan Rasmussen\, ECS Prevention Manager. \nContact Alan at 434-825-8913 or arasmussen@ecsva.org for questions about the group.
URL:https://www.encompasscommunitysupports.org/event/survivors-for-life-suicide-support-meeting/2025-05-19/
LOCATION:Encompass Community Supports Culpeper\, 15361 Bradford Road\, Culpeper\, VA\, 22701\, United States
ATTACH;FMTTYPE=image/png:https://www.encompasscommunitysupports.org/wp-content/uploads/2023/07/Survivors-for-Life.png
END:VEVENT
BEGIN:VEVENT
DTSTART;TZID=America/New_York:20250520T100000
DTEND;TZID=America/New_York:20250520T113000
DTSTAMP:20260423T024758
CREATED:20230918T193105Z
LAST-MODIFIED:20230921T190848Z
UID:10000304-1747735200-1747740600@www.encompasscommunitysupports.org
SUMMARY:Aging Services Advisory Council
DESCRIPTION:The Aging Services Advisory Council at Encompass Community Supports provides assistance and makes recommendations on policies and decisions affecting the Area Agency on Aging.
URL:https://www.encompasscommunitysupports.org/event/aging-services-advisory-council/2025-05-20/
LOCATION:Encompass Community Supports Culpeper\, 15361 Bradford Road\, Culpeper\, VA\, 22701\, United States
CATEGORIES:Aging Services Advisory Council Meetings
ATTACH;FMTTYPE=image/png:https://www.encompasscommunitysupports.org/wp-content/uploads/2023/09/ASAC-aging-svc-adv-council-rev2.png
END:VEVENT
BEGIN:VEVENT
DTSTART;VALUE=DATE:20250526
DTEND;VALUE=DATE:20250527
DTSTAMP:20260423T024758
CREATED:20241230T153355Z
LAST-MODIFIED:20241230T153711Z
UID:10000739-1748217600-1748303999@www.encompasscommunitysupports.org
SUMMARY:Memorial Day (Holiday)
DESCRIPTION:Offices are closed.
URL:https://www.encompasscommunitysupports.org/event/memorial-day-holiday/2025-05-26/
LOCATION:VA
CATEGORIES:Encompass Community Supports Events
ATTACH;FMTTYPE=image/jpeg:https://www.encompasscommunitysupports.org/wp-content/uploads/2024/12/04-Memorial-Day-Capture.jpg
END:VEVENT
BEGIN:VEVENT
DTSTART;TZID=America/New_York:20250527T080000
DTEND;TZID=America/New_York:20250527T160000
DTSTAMP:20260423T024758
CREATED:20240209T212055Z
LAST-MODIFIED:20240209T212055Z
UID:10000538-1748332800-1748361600@www.encompasscommunitysupports.org
SUMMARY:Developmental Screenings (Newborn to 3 yrs)
DESCRIPTION:
URL:https://www.encompasscommunitysupports.org/event/developmental-screenings-newborn-to-3-yrs/2025-05-27/
LOCATION:S.E.E. Recovery Center\, 710 US Avenue\, Culpeper\, VA\, 22701\, United States
CATEGORIES:Encompass Community Supports Events,In the Community
ATTACH;FMTTYPE=image/png:https://www.encompasscommunitysupports.org/wp-content/uploads/2024/02/ITC-Developmental-Screenings-Every-4th-TuesdaysCapture.png
END:VEVENT
BEGIN:VEVENT
DTSTART;TZID=America/New_York:20250527T110000
DTEND;TZID=America/New_York:20250527T123000
DTSTAMP:20260423T024758
CREATED:20250113T210737Z
LAST-MODIFIED:20250113T211045Z
UID:10000125-1748343600-1748349000@www.encompasscommunitysupports.org
SUMMARY:Finance & Administrative Services Committee
DESCRIPTION:To request a Public Comment\, please see the Public Comment Period Code of Ethics and Standards of Conduct at:\nhttps://ecsva.diligent.community/Portal/CitizenEngagement.aspx \nMicrosoft Teams meeting\nJoin on your computer\, mobile app or room device\nClick here to join the meeting\nMeeting ID: 245 302 553 105\nPasscode: GVc8bv\nDownload Teams | Join on the web\nOr call in (audio only)\n+1 424-566-7541\,\,802191294#   United States\, Los Angeles\nPhone Conference ID: 802 191 294#\nFind a local number | Reset PIN\nLearn More | Meeting options \n 
URL:https://www.encompasscommunitysupports.org/event/finance-administrative-services-committee-4-2/2025-05-27/
LOCATION:Encompass Community Supports Culpeper\, 15361 Bradford Road\, Culpeper\, VA\, 22701\, United States
CATEGORIES:Encompass Community Supports Events
ATTACH;FMTTYPE=image/png:https://www.encompasscommunitysupports.org/wp-content/uploads/2023/08/Finance-and-Admin-Committee-Meetings.png
END:VEVENT
BEGIN:VEVENT
DTSTART;TZID=America/New_York:20250527T130000
DTEND;TZID=America/New_York:20250527T143000
DTSTAMP:20260423T024758
CREATED:20250522T161215Z
LAST-MODIFIED:20250522T161342Z
UID:10000184-1748350800-1748356200@www.encompasscommunitysupports.org
SUMMARY:Program Committee
DESCRIPTION:To request a Public Comment\, please see the Public Comment Period Code of Ethics and Standards of Conduct at:\nhttps://ecsva.diligent.community/Portal/CitizenEngagement.aspx \nThere will be no virtual options for this meeting. \nBoard Members are invited to tour several agency locations within the Culpeper area within a two-hour timeframe. They will be able to briefly tour the facility and speak with its program staff.\nThere are two routes planned\, two buses.\nMembers will be able to chose which route they would like to take.\n**Please note that when the buses return\, the Committee must reconvene briefly to Adjourn.
URL:https://www.encompasscommunitysupports.org/event/program-committee-8/
LOCATION:Encompass Community Supports Culpeper\, 15361 Bradford Road\, Culpeper\, VA\, 22701\, United States
CATEGORIES:Encompass Community Supports Events
ATTACH;FMTTYPE=image/png:https://www.encompasscommunitysupports.org/wp-content/uploads/2023/09/Program_feature-image.png
END:VEVENT
END:VCALENDAR